BEGIN:VCALENDAR
VERSION:2.0
PRODID:-//Chris Collier - ECPv6.15.20//NONSGML v1.0//EN
CALSCALE:GREGORIAN
METHOD:PUBLISH
X-WR-CALNAME:Chris Collier
X-ORIGINAL-URL:https://chriscollier.com
X-WR-CALDESC:Events for Chris Collier
REFRESH-INTERVAL;VALUE=DURATION:PT1H
X-Robots-Tag:noindex
X-PUBLISHED-TTL:PT1H
BEGIN:VTIMEZONE
TZID:America/Kentucky/Louisville
BEGIN:DAYLIGHT
TZOFFSETFROM:-0500
TZOFFSETTO:-0400
TZNAME:EDT
DTSTART:20240310T070000
END:DAYLIGHT
BEGIN:STANDARD
TZOFFSETFROM:-0400
TZOFFSETTO:-0500
TZNAME:EST
DTSTART:20241103T060000
END:STANDARD
BEGIN:DAYLIGHT
TZOFFSETFROM:-0500
TZOFFSETTO:-0400
TZNAME:EDT
DTSTART:20250309T070000
END:DAYLIGHT
BEGIN:STANDARD
TZOFFSETFROM:-0400
TZOFFSETTO:-0500
TZNAME:EST
DTSTART:20251102T060000
END:STANDARD
BEGIN:DAYLIGHT
TZOFFSETFROM:-0500
TZOFFSETTO:-0400
TZNAME:EDT
DTSTART:20260308T070000
END:DAYLIGHT
BEGIN:STANDARD
TZOFFSETFROM:-0400
TZOFFSETTO:-0500
TZNAME:EST
DTSTART:20261101T060000
END:STANDARD
END:VTIMEZONE
BEGIN:VEVENT
DTSTART;TZID=America/Kentucky/Louisville:20250622T140000
DTEND;TZID=America/Kentucky/Louisville:20250622T160000
DTSTAMP:20260419T091749
CREATED:20250602T140741Z
LAST-MODIFIED:20250602T184145Z
UID:166-1750600800-1750608000@chriscollier.com
SUMMARY:Market Wines in Walnut Hills
DESCRIPTION:Chris Collier with George Cunningham             Sunday\, June 22\, 2-4 pm
URL:https://chriscollier.com/performance/market-wines-in-walnut-hills/
LOCATION:OH
END:VEVENT
BEGIN:VEVENT
DTSTART;TZID=America/Kentucky/Louisville:20250531T150000
DTEND;TZID=America/Kentucky/Louisville:20250531T160000
DTSTAMP:20260419T091749
CREATED:20250318T233822Z
LAST-MODIFIED:20250318T233822Z
UID:158-1748703600-1748707200@chriscollier.com
SUMMARY:Chris Collier with Full Band
DESCRIPTION:Chris Collier with Full Band\nSaturday\, May 31\, 2025\, 3:00-4:00 pm at\nSummerfair\, Coney Island\, 6201 Kellogg Avenue\, Cincinnati\, OH 45230
URL:https://chriscollier.com/performance/chris-collier-with-full-band/
LOCATION:Summerfair\, Coney Island\, 6201 Kellogg Avenue\, Cincinnati\, OH\, 45230\, United States
END:VEVENT
BEGIN:VEVENT
DTSTART;TZID=America/Kentucky/Louisville:20250308T193000
DTEND;TZID=America/Kentucky/Louisville:20250308T213000
DTSTAMP:20260419T091749
CREATED:20250318T233642Z
LAST-MODIFIED:20250318T233658Z
UID:154-1741462200-1741469400@chriscollier.com
SUMMARY:Chris Collier with George Cunningham
DESCRIPTION:Chris Collier with George Cunningham\nSaturday\, March 8\, 2025\, 7:30-9:30 pm at\nLuminary by LaTerza\, 6028 Hamilton Avenue\, Cincinnati\, OH 45224
URL:https://chriscollier.com/performance/chris-collier-with-george-cunningham/
LOCATION:Luminary by LaTerza\, 6028 Hamilton Avenue\, Cincinnati\, OH\, 45224\, United States
END:VEVENT
END:VCALENDAR